BEGIN:VCALENDAR
VERSION:2.0
PRODID:-//wp-events-plugin.com//7.2.3.1//EN
TZID:Europe/Stockholm
X-WR-TIMEZONE:Europe/Stockholm
BEGIN:VEVENT
UID:901@storumanlapland.se
DTSTART;TZID=Europe/Stockholm:20251129T100000
DTEND;TZID=Europe/Stockholm:20251129T150000
DTSTAMP:20251125T134430Z
URL:https://storumanlapland.se/evenemang/lordagsoppet/
SUMMARY:Lördagsöppet!
DESCRIPTION:
CATEGORIES:Café och Restaurang
LOCATION:Lapland Deli\, Skolgatan 7\, Storuman\, Västerbottens län\, 9233
 1\, Sverige
GEO:65.09430336;17.11006574
X-APPLE-STRUCTURED-LOCATION;VALUE=URI;X-ADDRESS=Skolgatan 7\, Storuman\, V
 ästerbottens län\, 92331\, Sverige;X-APPLE-RADIUS=100;X-TITLE=Lapland De
 li:geo:65.09430336,17.11006574
END:VEVENT
BEGIN:VTIMEZONE
TZID:Europe/Stockholm
X-LIC-LOCATION:Europe/Stockholm
BEGIN:STANDARD
DTSTART:20251026T020000
TZOFFSETFROM:+0200
TZOFFSETTO:+0100
TZNAME:CET
END:STANDARD
END:VTIMEZONE
END:VCALENDAR