BEGIN:VCALENDAR
VERSION:2.0
PRODID:-//wp-events-plugin.com//7.2.3.1//EN
TZID:Europe/Stockholm
X-WR-TIMEZONE:Europe/Stockholm
BEGIN:VEVENT
UID:611@storumanlapland.se
DTSTART;TZID=Europe/Stockholm:20240829T170000
DTEND;TZID=Europe/Stockholm:20240829T200000
DTSTAMP:20240827T123908Z
URL:https://storumanlapland.se/evenemang/musikquiz-hotell-toppen/
SUMMARY:Musikquiz Hotell Toppen
DESCRIPTION:ÄNTLIGEN!Torsdag 29/8 kör vi igång med quiz efter sommaren!1
 7.00 serveras middag\, 18.00 börjar quizet.169:-Anmäl ditt lag\, så ses
  vi på torsdag!\n\n\n\n\n0951-777 00\n\n\n\n\n\n\n\ninfo@hotelltoppen.se\
 n\n\n
ATTACH;FMTTYPE=image/jpeg:https://storumanlapland.se/wp-content/uploads/20
 24/08/musikquiz.jpg
CATEGORIES:Musik,Nöje
END:VEVENT
BEGIN:VTIMEZONE
TZID:Europe/Stockholm
X-LIC-LOCATION:Europe/Stockholm
BEGIN:DAYLIGHT
DTSTART:20240331T030000
TZOFFSETFROM:+0100
TZOFFSETTO:+0200
TZNAME:CEST
END:DAYLIGHT
END:VTIMEZONE
END:VCALENDAR