BEGIN:VCALENDAR
VERSION:2.0
PRODID:-//wp-events-plugin.com//7.2.3.1//EN
TZID:Europe/Stockholm
X-WR-TIMEZONE:Europe/Stockholm
BEGIN:VEVENT
UID:759@storumanlapland.se
DTSTART;TZID=Europe/Stockholm:20250418T110000
DTEND;TZID=Europe/Stockholm:20250418T130000
DTSTAMP:20250417T105413Z
URL:https://storumanlapland.se/evenemang/pimpeltavling-i-ankarsund-2/
SUMMARY:Pimpeltävling i Ankarsund
DESCRIPTION:Pimpeltävling i Ankarsund följt av After fiske i Folkets Hus 
 kl 19
CATEGORIES:Nöje
LOCATION:Ankarsund\, 92399\, Storuman\, Sverige
GEO:65.368331;16.643445
X-APPLE-STRUCTURED-LOCATION;VALUE=URI;X-ADDRESS=92399\, Storuman\, Sverige;
 X-APPLE-RADIUS=100;X-TITLE=Ankarsund:geo:65.368331,16.643445
END:VEVENT
BEGIN:VTIMEZONE
TZID:Europe/Stockholm
X-LIC-LOCATION:Europe/Stockholm
BEGIN:DAYLIGHT
DTSTART:20250330T030000
TZOFFSETFROM:+0100
TZOFFSETTO:+0200
TZNAME:CEST
END:DAYLIGHT
END:VTIMEZONE
END:VCALENDAR