BEGIN:VCALENDAR
VERSION:2.0
PRODID:-//wp-events-plugin.com//7.2.3.1//EN
TZID:Europe/Stockholm
X-WR-TIMEZONE:Europe/Stockholm
BEGIN:VEVENT
UID:1047@storumanlapland.se
DTSTART;TZID=Europe/Stockholm:20260530T180000
DTEND;TZID=Europe/Stockholm:20260530T234500
DTSTAMP:20260420T090115Z
URL:https://storumanlapland.se/evenemang/punkfest-storuman/
SUMMARY:Punkfest Storuman
DESCRIPTION:Vad är det som händer?! PUNKFEST händer!\n\nLördag den 30 m
 aj tas Folkets hus i Storuman över av ett gäng glada\, arga\, röjiga pu
 nkband och DU är välkommen att leva rövare med oss!\n\nGratis inträde.
 \nÖppet för alla oavsett ålder.\nAlkohol - och drogfritt.\n\nDörrarna 
 öppnas kl.17.30\n\nLineup för kvällen:\n18.00 UTRYMDA\n18.40 27 MINUTER
 \n19.20 INVADERS\n20.00 HÖRSELSKADAD\n20.40 ??\n21.20 CONSTRICTOR\n22.00 
 DEPPA\n\nI samarbete med Leader Lappland.
ATTACH;FMTTYPE=image/jpeg:https://storumanlapland.se/wp-content/uploads/20
 26/04/punkfest-e1776675217666.jpg
CATEGORIES:Musik
LOCATION:Storumans Folkets Hus\, Blå Vägen 256\, Storuman\, Västerbotten
 s län\, 92331\, Lappland\, Sverige
GEO:65.10247282;17.12385841
X-APPLE-STRUCTURED-LOCATION;VALUE=URI;X-ADDRESS=Blå Vägen 256\, Storuman\
 , Västerbottens län\, 92331\, Lappland\, Sverige;X-APPLE-RADIUS=100;X-TI
 TLE=Storumans Folkets Hus:geo:65.10247282,17.12385841
END:VEVENT
BEGIN:VTIMEZONE
TZID:Europe/Stockholm
X-LIC-LOCATION:Europe/Stockholm
BEGIN:DAYLIGHT
DTSTART:20260329T030000
TZOFFSETFROM:+0100
TZOFFSETTO:+0200
TZNAME:CEST
END:DAYLIGHT
END:VTIMEZONE
END:VCALENDAR