BEGIN:VCALENDAR
VERSION:2.0
PRODID:-//wp-events-plugin.com//7.2.3.1//EN
TZID:Europe/Stockholm
X-WR-TIMEZONE:Europe/Stockholm
BEGIN:VEVENT
UID:839@storumanlapland.se
DTSTART;TZID=Europe/Stockholm:20250913T123000
DTEND;TZID=Europe/Stockholm:20250913T143000
DTSTAMP:20250904T033802Z
URL:https://storumanlapland.se/evenemang/ronny-eriksson-leo-holmberg/
SUMMARY:Ronny Eriksson & Leo Holmberg
DESCRIPTION:Nu kommer Ronny Eriksson och Leo Holmberg till oss på Kulturca
 féet i Stensele. Så otroligt roligt!\n\nVi har begränsat med platser\, 
 så skynda er att boka med Emma genom att skicka ett SMS till henne på te
 lefon 070-558 60 79. Ange ditt namn och hur många platser du vill boka.\n
 \nVi kommer att öppna caféet redan kl 1230 för er som bokat och vill fi
 ka lite innan.\n\nVarmt välkoma!
CATEGORIES:Café och Restaurang,Kultur
END:VEVENT
BEGIN:VTIMEZONE
TZID:Europe/Stockholm
X-LIC-LOCATION:Europe/Stockholm
BEGIN:DAYLIGHT
DTSTART:20250330T030000
TZOFFSETFROM:+0100
TZOFFSETTO:+0200
TZNAME:CEST
END:DAYLIGHT
END:VTIMEZONE
END:VCALENDAR