BEGIN:VCALENDAR
VERSION:2.0
PRODID:-//wp-events-plugin.com//7.2.3.1//EN
TZID:Europe/Stockholm
X-WR-TIMEZONE:Europe/Stockholm
BEGIN:VEVENT
UID:644@storumanlapland.se
DTSTART;TZID=Europe/Stockholm:20250308T110000
DTEND;TZID=Europe/Stockholm:20250308T140000
DTSTAMP:20241023T090859Z
URL:https://storumanlapland.se/evenemang/sabotstraffen-2/
SUMMARY:Sabotsträffen
DESCRIPTION:Skoterklubben grillar hamburgare och utlovar ett fantastiskt ut
 bud av tillbehör\, vi säljer fika och ordnar aktiviteter och ger en chan
 s att träffas och surra. Hit kommer du på skoter eller så parkerar man 
 efter Näsvattsvägen och går eller skidar efter skoterleden längsmed sj
 ön
ATTACH;FMTTYPE=image/jpeg:https://storumanlapland.se/wp-content/uploads/20
 22/10/311893541_10159067833006545_8631587969999166215_n.jpg
CATEGORIES:Nöje
LOCATION:Sabotssjön-sabotsträffen\, Stabburnäs 100\, Långsjöby\, 92398
 \, Sverige
GEO:65.068831;16.839583
X-APPLE-STRUCTURED-LOCATION;VALUE=URI;X-ADDRESS=Stabburnäs 100\, Långsjö
 by\, 92398\, Sverige;X-APPLE-RADIUS=100;X-TITLE=Sabotssjön-sabotsträffen
 :geo:65.068831,16.839583
END:VEVENT
BEGIN:VTIMEZONE
TZID:Europe/Stockholm
X-LIC-LOCATION:Europe/Stockholm
BEGIN:STANDARD
DTSTART:20241027T020000
TZOFFSETFROM:+0200
TZOFFSETTO:+0100
TZNAME:CET
END:STANDARD
END:VTIMEZONE
END:VCALENDAR