BEGIN:VCALENDAR
VERSION:2.0
PRODID:-//wp-events-plugin.com//7.2.3.1//EN
TZID:Europe/Stockholm
X-WR-TIMEZONE:Europe/Stockholm
BEGIN:VEVENT
UID:999@storumanlapland.se
DTSTART;TZID=Europe/Stockholm:20260307T110000
DTEND;TZID=Europe/Stockholm:20260307T140000
DTSTAMP:20260129T150348Z
URL:https://storumanlapland.se/evenemang/sabotstraffen/
SUMMARY:Sabotsträffen
DESCRIPTION:Kom och fika på Sabotssjön. Fikaförsäljning och aktiviteter
 .
ATTACH;FMTTYPE=image/jpeg:https://storumanlapland.se/wp-content/uploads/20
 26/01/sabotstraffen.jpg
CATEGORIES:Upplevelse
LOCATION:Sabotssjön\, Stabburnäs 100\, Storuman\, 923 98\, Sverige
GEO:65.067651;16.856723
X-APPLE-STRUCTURED-LOCATION;VALUE=URI;X-ADDRESS=Stabburnäs 100\, Storuman\
 , 923 98\, Sverige;X-APPLE-RADIUS=100;X-TITLE=Sabotssjön:geo:65.067651,16
 .856723
END:VEVENT
BEGIN:VTIMEZONE
TZID:Europe/Stockholm
X-LIC-LOCATION:Europe/Stockholm
BEGIN:STANDARD
DTSTART:20251026T020000
TZOFFSETFROM:+0200
TZOFFSETTO:+0100
TZNAME:CET
END:STANDARD
END:VTIMEZONE
END:VCALENDAR