BEGIN:VCALENDAR
VERSION:2.0
PRODID:-//wp-events-plugin.com//7.2.3.1//EN
TZID:Europe/Stockholm
X-WR-TIMEZONE:Europe/Stockholm
BEGIN:VEVENT
UID:566@storumanlapland.se
DTSTART;TZID=Europe/Stockholm:20241015T000000
DTEND;TZID=Europe/Stockholm:20241015T000000
DTSTAMP:20241008T065259Z
URL:https://storumanlapland.se/evenemang/save-the-date-seniormassa/
SUMMARY:Seniormässa
DESCRIPTION:Tisdag 15 oktober hälsar vi er varmt välkomna till årets sen
 iormässa. En dag fylld av aktiviteter\, mingel och information för alla 
 seniorer. Fri entré\, ingen föranmälan krävs!\n\nKl. 10.00 Folkets hus
  öppnar\nKl. 11.00 – 15.00 Mässhallen öppnar\nUtsikten har pop-up caf
 é i mässhallen under hela dagen.\nFöreläsningar\nKl. 10.05 -10.35 Skyd
 da dig mot bedrägerier – Polisen\nKl. 10. 45-11.15 Hälsoförbättrande
  träning oavsett ålder – Peak Gym\nKl. 12.15-12.45 Min egen historia -
  Gunne-Gerd Johansson (H)järnkoll. G-J föreläser om sina egna erfarenhe
 ter av att leva med psykisk ohälsa\, och om hur hennes liv kunde gå frå
 n alkoholmissbruk och isolering till det bättre.\nKl. 13.00- 13.45 Det sa
 miska köket – Kristoffer Åström\nEn liten rundtur i samisk matkultur 
 med kocken Kristoffer Åström. Från det nyttiga renfettet till blodmat o
 ch örter.\nKl. 14.15-15.15 Hur förberedd är du på en krissituation - h
 ur ser din hemberedskap ut? - Förinspelad föreläsning med Niklas Kämpa
 rgård.\n\nOm du har frågor eller vill du åka buss längs E12 till mäss
 an är du välkommen att kontakta:\nJennie Larsson\nutvecklingssamordnare\
 n072- 454 76 25\njennie.d.larsson@storuman.se\nwww.storuman.se/seniormassa
 2024
CATEGORIES:Nöje
LOCATION:Storumans Folkets Hus\, Blå Vägen 256\, Storuman\, Västerbotten
 s län\, 92331\, Lappland\, Sverige
GEO:65.10247282;17.12385841
X-APPLE-STRUCTURED-LOCATION;VALUE=URI;X-ADDRESS=Blå Vägen 256\, Storuman\
 , Västerbottens län\, 92331\, Lappland\, Sverige;X-APPLE-RADIUS=100;X-TI
 TLE=Storumans Folkets Hus:geo:65.10247282,17.12385841
END:VEVENT
BEGIN:VTIMEZONE
TZID:Europe/Stockholm
X-LIC-LOCATION:Europe/Stockholm
BEGIN:DAYLIGHT
DTSTART:20240331T030000
TZOFFSETFROM:+0100
TZOFFSETTO:+0200
TZNAME:CEST
END:DAYLIGHT
END:VTIMEZONE
END:VCALENDAR