BEGIN:VCALENDAR
VERSION:2.0
PRODID:-//wp-events-plugin.com//7.2.3.1//EN
TZID:Europe/Stockholm
X-WR-TIMEZONE:Europe/Stockholm
BEGIN:VEVENT
UID:46@storumanlapland.se
DTSTART;TZID=Europe/Stockholm:20250222T110000
DTEND;TZID=Europe/Stockholm:20250222T140000
DTSTAMP:20241023T090246Z
URL:https://storumanlapland.se/evenemang/semmeltraff-i-volvobackskojan/
SUMMARY:Semmelträff i Volvobäckskojan
DESCRIPTION:Skoterklubben säljer fika och ordnar aktiviteter vid klubbstug
 an. Känner du någon som borde vara med eller visa upp sina produkter\, b
 jud in dem.\nDet går bra att köra skoter eller åka bil till vår klubbs
 tuga\, det finns gott om parkeringsyta.
ATTACH;FMTTYPE=image/jpeg:https://storumanlapland.se/wp-content/uploads/20
 22/10/311763944_10159067829086545_2375969489797201590_n.jpg
CATEGORIES:Nöje
LOCATION:Volvobäckskojan Långsjöby\, Volvobäcken 101\, Långsjöby\, St
 oruman\, Sverige
GEO:65.107938;16.65324
X-APPLE-STRUCTURED-LOCATION;VALUE=URI;X-ADDRESS=Volvobäcken 101\, Långsj
 öby\, Storuman\, Sverige;X-APPLE-RADIUS=100;X-TITLE=Volvobäckskojan Lån
 gsjöby:geo:65.107938,16.65324
END:VEVENT
BEGIN:VTIMEZONE
TZID:Europe/Stockholm
X-LIC-LOCATION:Europe/Stockholm
BEGIN:STANDARD
DTSTART:20241027T020000
TZOFFSETFROM:+0200
TZOFFSETTO:+0100
TZNAME:CET
END:STANDARD
END:VTIMEZONE
END:VCALENDAR