BEGIN:VCALENDAR
VERSION:2.0
PRODID:-//wp-events-plugin.com//7.2.3.1//EN
TZID:Europe/Stockholm
X-WR-TIMEZONE:Europe/Stockholm
BEGIN:VEVENT
UID:995@storumanlapland.se
DTSTART;TZID=Europe/Stockholm:20260203T190000
DTEND;TZID=Europe/Stockholm:20260203T203000
DTSTAMP:20260202T121220Z
URL:https://storumanlapland.se/evenemang/slabang/
SUMMARY:SlaBANG
DESCRIPTION:slaBANG är ett rutinerat show- och underhållningsband som bes
 tår av: Åke Swahn (sång\, bas\, munspel\, dragspel)\, Per Sjöstedt (s
 ång\, trumma) och Bore ”Kung Bore” Karlsson (sång\, gitarr).Tillsamm
 ans har de lång musikalisk erfarenhet med en bred repertoar och har alla 
 spelat i olika konstellationer innan de för ett antal år sedan hittade v
 arandra. Publiken kan se fram emot en kväll med musik från många olika 
 genréer
ATTACH;FMTTYPE=image/jpeg:https://storumanlapland.se/wp-content/uploads/20
 26/01/607431094_1189455366664914_5968099936249253747_n.jpg
LOCATION:Storumans Folkets Hus\, Blå Vägen 256\, Storuman\, Västerbotten
 s län\, 92331\, Lappland\, Sverige
GEO:65.10247282;17.12385841
X-APPLE-STRUCTURED-LOCATION;VALUE=URI;X-ADDRESS=Blå Vägen 256\, Storuman\
 , Västerbottens län\, 92331\, Lappland\, Sverige;X-APPLE-RADIUS=100;X-TI
 TLE=Storumans Folkets Hus:geo:65.10247282,17.12385841
END:VEVENT
BEGIN:VTIMEZONE
TZID:Europe/Stockholm
X-LIC-LOCATION:Europe/Stockholm
BEGIN:STANDARD
DTSTART:20251026T020000
TZOFFSETFROM:+0200
TZOFFSETTO:+0100
TZNAME:CET
END:STANDARD
END:VTIMEZONE
END:VCALENDAR