BEGIN:VCALENDAR
VERSION:2.0
PRODID:-//wp-events-plugin.com//7.2.3.1//EN
TZID:Europe/Stockholm
X-WR-TIMEZONE:Europe/Stockholm
BEGIN:VEVENT
UID:695@storumanlapland.se
DTSTART;TZID=Europe/Stockholm:20250208T160000
DTEND;TZID=Europe/Stockholm:20250208T160000
DTSTAMP:20250130T193934Z
URL:https://storumanlapland.se/evenemang/stick-virk/
SUMMARY:Stick & Virk
DESCRIPTION:Varför inte avsluta lördag den 8/2 med lite stick &amp\; virk
  hos oss?\nBistro meny från 16.00!Boka bord!
CATEGORIES:Café och Restaurang,Kultur
LOCATION:Hotell Toppen\, Blå Vägen 238\, Storuman \, Sverige
GEO:65.094794;17.115434
X-APPLE-STRUCTURED-LOCATION;VALUE=URI;X-ADDRESS=Blå Vägen 238\, Storuman 
 \, Sverige;X-APPLE-RADIUS=100;X-TITLE=Hotell Toppen:geo:65.094794,17.11543
 4
END:VEVENT
BEGIN:VTIMEZONE
TZID:Europe/Stockholm
X-LIC-LOCATION:Europe/Stockholm
BEGIN:STANDARD
DTSTART:20241027T020000
TZOFFSETFROM:+0200
TZOFFSETTO:+0100
TZNAME:CET
END:STANDARD
END:VTIMEZONE
END:VCALENDAR