BEGIN:VCALENDAR
VERSION:2.0
PRODID:-//wp-events-plugin.com//7.2.3.1//EN
TZID:Europe/Stockholm
X-WR-TIMEZONE:Europe/Stockholm
BEGIN:VEVENT
UID:1000@storumanlapland.se
DTSTART;TZID=Europe/Stockholm:20260131T130000
DTEND;TZID=Europe/Stockholm:20260131T180000
DTSTAMP:20260130T130926Z
URL:https://storumanlapland.se/evenemang/stryktipslordag-i-vardagsrummet-4
 /
SUMMARY:Stryktipslördag i Vardagsrummet
DESCRIPTION:På lördag är det jackpot på 20 miljoner och i Vardagsrummet
  kommer vi försöka verka fram den rätta raden.\n\nVill ni vara med på 
 det roliga\, kom förbi Vardagsrummet och va med på vårt andelsspel. Sit
 t gärna kvar och ta nåt gott i glaset och följ spänningen mellan 16-18
 .\n\nVi är på plats från klockan 13 med goda diskussioner och många sk
 ratt!\n\nVälkommen ska ni vara!
ATTACH;FMTTYPE=image/jpeg:https://storumanlapland.se/wp-content/uploads/20
 26/01/624184893_122163259748838187_8637956196587794111_n.jpg
CATEGORIES:Nöje
LOCATION:Hotell Toppen\, Blå Vägen 238\, Storuman \, Sverige
GEO:65.094794;17.115434
X-APPLE-STRUCTURED-LOCATION;VALUE=URI;X-ADDRESS=Blå Vägen 238\, Storuman 
 \, Sverige;X-APPLE-RADIUS=100;X-TITLE=Hotell Toppen:geo:65.094794,17.11543
 4
END:VEVENT
BEGIN:VTIMEZONE
TZID:Europe/Stockholm
X-LIC-LOCATION:Europe/Stockholm
BEGIN:STANDARD
DTSTART:20251026T020000
TZOFFSETFROM:+0200
TZOFFSETTO:+0100
TZNAME:CET
END:STANDARD
END:VTIMEZONE
END:VCALENDAR