BEGIN:VCALENDAR
VERSION:2.0
PRODID:-//wp-events-plugin.com//7.2.3.1//EN
TZID:Europe/Stockholm
X-WR-TIMEZONE:Europe/Stockholm
BEGIN:VEVENT
UID:997@storumanlapland.se
DTSTART;TZID=Europe/Stockholm:20260417T190000
DTEND;TZID=Europe/Stockholm:20260417T203000
DTSTAMP:20260129T145715Z
URL:https://storumanlapland.se/evenemang/teater-annonsen/
SUMMARY:Teater: Annonsen
DESCRIPTION:Varje människa är en ö brukar man säga. Men vissa öar tyck
 er om att få besök. Två män i en by och en kvinna upplever sitt livs s
 tora äventyr. I denna teaterföreställning möter vi tre udda existenser
  som längtar efter gemenskap där uttrycket ”ensam är stark” inte k
 änns som ett bra vägval. Om tango\, drömmar\, vänskap\, svartsjuka\, t
 årta och längtan efter kärlek.
ATTACH;FMTTYPE=image/jpeg:https://storumanlapland.se/wp-content/uploads/20
 26/01/Annonsen-bild.png
CATEGORIES:Kultur,Nöje
LOCATION:Storumans Folkets Hus\, Blå Vägen 256\, Storuman\, Västerbotten
 s län\, 92331\, Lappland\, Sverige
GEO:65.10247282;17.12385841
X-APPLE-STRUCTURED-LOCATION;VALUE=URI;X-ADDRESS=Blå Vägen 256\, Storuman\
 , Västerbottens län\, 92331\, Lappland\, Sverige;X-APPLE-RADIUS=100;X-TI
 TLE=Storumans Folkets Hus:geo:65.10247282,17.12385841
END:VEVENT
BEGIN:VTIMEZONE
TZID:Europe/Stockholm
X-LIC-LOCATION:Europe/Stockholm
BEGIN:DAYLIGHT
DTSTART:20260329T030000
TZOFFSETFROM:+0100
TZOFFSETTO:+0200
TZNAME:CEST
END:DAYLIGHT
END:VTIMEZONE
END:VCALENDAR