BEGIN:VCALENDAR
VERSION:2.0
PRODID:-//wp-events-plugin.com//7.2.3.1//EN
TZID:Europe/Stockholm
X-WR-TIMEZONE:Europe/Stockholm
BEGIN:VEVENT
UID:777@storumanlapland.se
DTSTART;TZID=Europe/Stockholm:20250430T183000
DTEND;TZID=Europe/Stockholm:20250430T203000
DTSTAMP:20250428T090012Z
URL:https://storumanlapland.se/evenemang/valborg-i-askilje/
SUMMARY:Valborg i Åskilje
DESCRIPTION:Valborgsfirande på Bygdegården i Åskilje\n\nVarmt välkomna!
CATEGORIES:Nöje
LOCATION:Åskilje Bygdegård\, Åskilje 305\, Åskilje\, Västerbotten\, 92
 051\, Lappland\, Sverige
GEO:64.90810563;17.85848051
X-APPLE-STRUCTURED-LOCATION;VALUE=URI;X-ADDRESS=Åskilje 305\, Åskilje\, V
 ästerbotten\, 92051\, Lappland\, Sverige;X-APPLE-RADIUS=100;X-TITLE=Åski
 lje Bygdegård:geo:64.90810563,17.85848051
END:VEVENT
BEGIN:VTIMEZONE
TZID:Europe/Stockholm
X-LIC-LOCATION:Europe/Stockholm
BEGIN:DAYLIGHT
DTSTART:20250330T030000
TZOFFSETFROM:+0100
TZOFFSETTO:+0200
TZNAME:CEST
END:DAYLIGHT
END:VTIMEZONE
END:VCALENDAR