BEGIN:VCALENDAR
VERSION:2.0
PRODID:-//wp-events-plugin.com//7.2.3.1//EN
TZID:Europe/Stockholm
X-WR-TIMEZONE:Europe/Stockholm
BEGIN:VEVENT
UID:1059@storumanlapland.se
DTSTART;TZID=Europe/Stockholm:20260430T190000
DTEND;TZID=Europe/Stockholm:20260430T190000
DTSTAMP:20260423T202121Z
URL:https://storumanlapland.se/evenemang/valborg-i-gunnarn-2/
SUMMARY:Valborg i Gunnarn
DESCRIPTION:Valborgsfirande i Gunnarn\n\nVälkomna!
ATTACH;FMTTYPE=image/jpeg:https://storumanlapland.se/wp-content/uploads/20
 26/04/FB_IMG_1776973794749.jpg
CATEGORIES:Kultur,Nöje
LOCATION:Gunnarn Skola\, Skolvägen 11\, Gunnarn\, Västerbotten\, 92342\, 
 Sverige
GEO:65.009822;17.680819
X-APPLE-STRUCTURED-LOCATION;VALUE=URI;X-ADDRESS=Skolvägen 11\, Gunnarn\, V
 ästerbotten\, 92342\, Sverige;X-APPLE-RADIUS=100;X-TITLE=Gunnarn Skola:ge
 o:65.009822,17.680819
END:VEVENT
BEGIN:VTIMEZONE
TZID:Europe/Stockholm
X-LIC-LOCATION:Europe/Stockholm
BEGIN:DAYLIGHT
DTSTART:20260329T030000
TZOFFSETFROM:+0100
TZOFFSETTO:+0200
TZNAME:CEST
END:DAYLIGHT
END:VTIMEZONE
END:VCALENDAR