BEGIN:VCALENDAR
VERSION:2.0
PRODID:-//wp-events-plugin.com//7.2.3.1//EN
TZID:Europe/Stockholm
X-WR-TIMEZONE:Europe/Stockholm
BEGIN:VEVENT
UID:1013@storumanlapland.se
DTSTART;TZID=Europe/Stockholm:20260220T193000
DTEND;TZID=Europe/Stockholm:20260220T213000
DTSTAMP:20260220T143736Z
URL:https://storumanlapland.se/evenemang/veteranerna-ifk-stromsund/
SUMMARY:Veteranerna - IFK Strömsund
DESCRIPTION:Veteranerna bjuder hit IFK Strömsund veteraner till säsongens
  sista hemmamatch!Fredag 20/219.30VildmannahallenVälkommen!\n\n
ATTACH;FMTTYPE=image/jpeg:https://storumanlapland.se/wp-content/uploads/20
 26/02/veteranerna.jpg
END:VEVENT
BEGIN:VTIMEZONE
TZID:Europe/Stockholm
X-LIC-LOCATION:Europe/Stockholm
BEGIN:STANDARD
DTSTART:20251026T020000
TZOFFSETFROM:+0200
TZOFFSETTO:+0100
TZNAME:CET
END:STANDARD
END:VTIMEZONE
END:VCALENDAR